BEGIN:VCALENDAR
VERSION:2.0
PRODID:-//CPIE - ECPv5.0.2.1//NONSGML v1.0//EN
CALSCALE:GREGORIAN
METHOD:PUBLISH
X-WR-CALNAME:CPIE
X-ORIGINAL-URL:http://cpie-paysdaix.com
X-WR-CALDESC:Évènements pour CPIE
BEGIN:VTIMEZONE
TZID:Europe/Paris
BEGIN:DAYLIGHT
TZOFFSETFROM:+0100
TZOFFSETTO:+0200
TZNAME:CEST
DTSTART:20230326T010000
END:DAYLIGHT
BEGIN:STANDARD
TZOFFSETFROM:+0200
TZOFFSETTO:+0100
TZNAME:CET
DTSTART:20231029T010000
END:STANDARD
END:VTIMEZONE
BEGIN:VEVENT
DTSTART;TZID=Europe/Paris:20231129T100000
DTEND;TZID=Europe/Paris:20231129T160000
DTSTAMP:20260420T173931
CREATED:20231103T104037Z
LAST-MODIFIED:20231121T132543Z
UID:5642-1701252000-1701273600@cpie-paysdaix.com
SUMMARY:Mercredi 29 novembre : 2 lieux\, 2 ateliers gratuits
DESCRIPTION:\nDe 10h à 12h au CPIE du Pays d’Aix à Puyricard\nAtelier sur la consommation responsable\nComment peut-on limiter l’impact de notre consommation ?\nQu’est-ce que la consommation responsable ?\nQu’est-ce qui se cache derrière les différents labels ?\nJe m’inscris à l’atelier consommation responsable\n\n  \n\nDe 14h à 16h30\, au Technopole du Petit Arbois à Aix-en-Provence\nAtelier sur le bruit et son impact sur la santé et l’environnement\nAu travers d’un quiz et de différents ateliers (expériences\, manipulations\, etc…) vous pourrez vous familiariser avec les notions et concepts liés au bruit : phénomènes sonores et acoustiques\, nuisances\, solutions.\nN’hésitez pas à venir en famille\, les enfants peuvent participer à cet atelier à partir de 8 ans !\nJe m’inscris à l’atelier sur le bruit\n\n  \nGrâce au soutien de : Métropole Marseille Provence\, Département 13 et Ville d’Aix-en-Provence. \n
URL:http://cpie-paysdaix.com/event/atelier-sur-le-bruit-son-impact-sur-la-sante-et-lenvironnement/
ATTACH;FMTTYPE=image/png:http://cpie-paysdaix.com/wp-content/uploads/2023/11/bruit-conso.png
END:VEVENT
END:VCALENDAR