BEGIN:VCALENDAR
VERSION:2.0
PRODID:-//CPIE - ECPv5.0.2.1//NONSGML v1.0//EN
CALSCALE:GREGORIAN
METHOD:PUBLISH
X-WR-CALNAME:CPIE
X-ORIGINAL-URL:http://cpie-paysdaix.com
X-WR-CALDESC:Évènements pour CPIE
BEGIN:VTIMEZONE
TZID:Europe/Paris
BEGIN:DAYLIGHT
TZOFFSETFROM:+0100
TZOFFSETTO:+0200
TZNAME:CEST
DTSTART:20210328T010000
END:DAYLIGHT
BEGIN:STANDARD
TZOFFSETFROM:+0200
TZOFFSETTO:+0100
TZNAME:CET
DTSTART:20211031T010000
END:STANDARD
END:VTIMEZONE
BEGIN:VEVENT
DTSTART;TZID=Europe/Paris:20210209T120000
DTEND;TZID=Europe/Paris:20210209T133000
DTSTAMP:20260419T194854
CREATED:20210121T154538Z
LAST-MODIFIED:20210121T154538Z
UID:3233-1612872000-1612877400@cpie-paysdaix.com
SUMMARY:Focus sur les aides financières en logement individuel !
DESCRIPTION:Pour les logements individuels  \nLes aides financières dédiées aux travaux de rénovation énergétique sont nombreuses et parfois complexes : crédit d’impôt\, prêt à taux zéro\, TVA réduite\, Certificats d’économies d’énergie\, primes locales\, etc. \nSelon votre commune de résidence\, vos revenus et la performance des travaux visés\, les aides sont diverses. \nCes séances d’informations collectives vous aideront à vous y retrouver avec un zoom sur MaPrimeRénov’\, la nouvelle prime nationale ouverte à tous les propriétaires et désormais aux copropriétaires. \nAtelier gratuit sur inscription en cliquant ici ! \n
URL:http://cpie-paysdaix.com/event/focus-sur-les-aides-financieres-en-logement-individuel-2/
END:VEVENT
END:VCALENDAR