BEGIN:VCALENDAR
VERSION:2.0
PRODID:-//CPIE - ECPv5.0.2.1//NONSGML v1.0//EN
CALSCALE:GREGORIAN
METHOD:PUBLISH
X-WR-CALNAME:CPIE
X-ORIGINAL-URL:https://cpie-paysdaix.com
X-WR-CALDESC:Évènements pour CPIE
BEGIN:VTIMEZONE
TZID:Europe/Paris
BEGIN:DAYLIGHT
TZOFFSETFROM:+0100
TZOFFSETTO:+0200
TZNAME:CEST
DTSTART:20240331T010000
END:DAYLIGHT
BEGIN:STANDARD
TZOFFSETFROM:+0200
TZOFFSETTO:+0100
TZNAME:CET
DTSTART:20241027T010000
END:STANDARD
END:VTIMEZONE
BEGIN:VEVENT
DTSTART;TZID=Europe/Paris:20240706T140000
DTEND;TZID=Europe/Paris:20240706T190000
DTSTAMP:20260421T193437
CREATED:20240628T134858Z
LAST-MODIFIED:20240628T134858Z
UID:6023-1720274400-1720292400@cpie-paysdaix.com
SUMMARY:Acclimate-toi fête l'été à Encagnane
DESCRIPTION:Une deuxième événement du projet « Acclimate-toi » aura lieu samedi 6 juillet de 14h à 19h au jardin Lou Grillet à Aix-en-Provence. \nDans le cadre des 60 ans d’Encagnane\, nous vous invitons à nous rejoindre au jardin pour plusieurs ateliers à faire entre amis ou en famille :\n– Atelier alimentation durable\n– Jeu sur la biodiversité\n– Inventaire de la flore\n– Goûter partagé \nGRATUIT & OUVERT A TOUS ! \n \n
URL:https://cpie-paysdaix.com/event/acclimate-toi-fete-lete-a-encagnane/
ATTACH;FMTTYPE=image/jpeg:https://cpie-paysdaix.com/wp-content/uploads/2024/06/fete-encagnane-1.jpg
END:VEVENT
END:VCALENDAR