BEGIN:VCALENDAR
VERSION:2.0
PRODID:-//CPIE - ECPv5.0.2.1//NONSGML v1.0//EN
CALSCALE:GREGORIAN
METHOD:PUBLISH
X-WR-CALNAME:CPIE
X-ORIGINAL-URL:https://cpie-paysdaix.com
X-WR-CALDESC:Évènements pour CPIE
BEGIN:VTIMEZONE
TZID:Europe/Paris
BEGIN:DAYLIGHT
TZOFFSETFROM:+0100
TZOFFSETTO:+0200
TZNAME:CEST
DTSTART:20240331T010000
END:DAYLIGHT
BEGIN:STANDARD
TZOFFSETFROM:+0200
TZOFFSETTO:+0100
TZNAME:CET
DTSTART:20241027T010000
END:STANDARD
END:VTIMEZONE
BEGIN:VEVENT
DTSTART;TZID=Europe/Paris:20240911T100000
DTEND;TZID=Europe/Paris:20240911T160000
DTSTAMP:20260421T173819
CREATED:20240903T150025Z
LAST-MODIFIED:20240903T150127Z
UID:6126-1726048800-1726070400@cpie-paysdaix.com
SUMMARY:Ateliers au jardin
DESCRIPTION:Dans le cadre des 60 ans du quartier d’Encagnane\, nous sommes heureux de vous proposer deux ateliers le mercredi 11 septembre : \nDe 10 h à 12h30 : « Cuisiner le figuier »\nSymbole de bienveillance et d’attraction du bien\, le Figuier est un trésor qui permet d’imaginer mille et un délices culinaires : condiment\, boissons\, présure végétale\, plats salés\, plats sucrés\, venez découvrir cet arbre fruitier magique aux travers de recettes que nous réaliserons ensemble. \n  \n  \nDe 14h à 16h : Semy Party d’Automne\nVous êtes invités à venir préparer vos semis pour l’automne\, partager vos astuces potagères\, échanger vos graines\, plantes ou outils. Nous profiterons de cette occasion pour inaugurer la grainothèque des jardins d’Encagnane au gré du glanage collectif de semences dans le jardin Lou Grillet. A cet effet\, un temps d’échanges sera proposé par Fred\, notre jardin de projets jardins\, pour expliquer comment conserver puis valoriser les graines récoltées à la fin de l’été. \n  \n  \nAteliers ouverts à tous\, sans inscription et gratuits ! \n
URL:https://cpie-paysdaix.com/event/ateliers-au-jardin/
LOCATION:Jardin Lou Grillet\, avenue du President Kennedy\, Aix-en-Provence\, 13090\, France
ATTACH;FMTTYPE=image/png:https://cpie-paysdaix.com/wp-content/uploads/2024/09/jardin-fred-11-09-1.png
END:VEVENT
END:VCALENDAR